BEGIN:VCALENDAR
VERSION:2.0
PRODID:-//Jumeaux et Plus 26 - ECPv6.15.20//NONSGML v1.0//EN
CALSCALE:GREGORIAN
METHOD:PUBLISH
X-ORIGINAL-URL:https://www.jumeauxetplus26.fr
X-WR-CALDESC:Évènements pour Jumeaux et Plus 26
REFRESH-INTERVAL;VALUE=DURATION:PT1H
X-Robots-Tag:noindex
X-PUBLISHED-TTL:PT1H
BEGIN:VTIMEZONE
TZID:Europe/Paris
BEGIN:DAYLIGHT
TZOFFSETFROM:+0100
TZOFFSETTO:+0200
TZNAME:CEST
DTSTART:20230326T010000
END:DAYLIGHT
BEGIN:STANDARD
TZOFFSETFROM:+0200
TZOFFSETTO:+0100
TZNAME:CET
DTSTART:20231029T010000
END:STANDARD
BEGIN:DAYLIGHT
TZOFFSETFROM:+0100
TZOFFSETTO:+0200
TZNAME:CEST
DTSTART:20240331T010000
END:DAYLIGHT
BEGIN:STANDARD
TZOFFSETFROM:+0200
TZOFFSETTO:+0100
TZNAME:CET
DTSTART:20241027T010000
END:STANDARD
BEGIN:DAYLIGHT
TZOFFSETFROM:+0100
TZOFFSETTO:+0200
TZNAME:CEST
DTSTART:20250330T010000
END:DAYLIGHT
BEGIN:STANDARD
TZOFFSETFROM:+0200
TZOFFSETTO:+0100
TZNAME:CET
DTSTART:20251026T010000
END:STANDARD
END:VTIMEZONE
BEGIN:VEVENT
DTSTART;VALUE=DATE:20241013
DTEND;VALUE=DATE:20241014
DTSTAMP:20260420T025544
CREATED:20240902T201337Z
LAST-MODIFIED:20240902T201554Z
UID:989-1728777600-1728863999@www.jumeauxetplus26.fr
SUMMARY:Acrobois Romans - accrobranche à Peyrins
DESCRIPTION:https://romans.acrobois.fr/ \nAcrobois Romans\nLe Bois des Ussiaux\n26380 Peyrins
URL:https://www.jumeauxetplus26.fr/event/acrobois-romans-accrobranche-a-peyrins/
CATEGORIES:Animation
END:VEVENT
END:VCALENDAR