BEGIN:VCALENDAR
VERSION:2.0
PRODID:-//Jumeaux et Plus 26 - ECPv6.15.20//NONSGML v1.0//EN
CALSCALE:GREGORIAN
METHOD:PUBLISH
X-ORIGINAL-URL:https://www.jumeauxetplus26.fr
X-WR-CALDESC:Évènements pour Jumeaux et Plus 26
REFRESH-INTERVAL;VALUE=DURATION:PT1H
X-Robots-Tag:noindex
X-PUBLISHED-TTL:PT1H
BEGIN:VTIMEZONE
TZID:Europe/Paris
BEGIN:DAYLIGHT
TZOFFSETFROM:+0100
TZOFFSETTO:+0200
TZNAME:CEST
DTSTART:20240331T010000
END:DAYLIGHT
BEGIN:STANDARD
TZOFFSETFROM:+0200
TZOFFSETTO:+0100
TZNAME:CET
DTSTART:20241027T010000
END:STANDARD
BEGIN:DAYLIGHT
TZOFFSETFROM:+0100
TZOFFSETTO:+0200
TZNAME:CEST
DTSTART:20250330T010000
END:DAYLIGHT
BEGIN:STANDARD
TZOFFSETFROM:+0200
TZOFFSETTO:+0100
TZNAME:CET
DTSTART:20251026T010000
END:STANDARD
BEGIN:DAYLIGHT
TZOFFSETFROM:+0100
TZOFFSETTO:+0200
TZNAME:CEST
DTSTART:20260329T010000
END:DAYLIGHT
BEGIN:STANDARD
TZOFFSETFROM:+0200
TZOFFSETTO:+0100
TZNAME:CET
DTSTART:20261025T010000
END:STANDARD
END:VTIMEZONE
BEGIN:VEVENT
DTSTART;VALUE=DATE:20250209
DTEND;VALUE=DATE:20250210
DTSTAMP:20260419T191747
CREATED:20250225T190019Z
LAST-MODIFIED:20260118T202844Z
UID:1000-1739059200-1739145599@www.jumeauxetplus26.fr
SUMMARY:Journée neige - Le Grand Échaillon
DESCRIPTION:Journée Neige !\nLe dimanche 9 février\nLe Grand Échaillon (26)\, à 1h de Valence\nRdv vers 11h/11h30 en bas de la piste de luge \nLe Grand Échaillon regroupe un espace nordique qui régalera petits et grands : luge\, randonnée à pieds\, randonnée raquettes\, ski de fond\, trottinette ou bain de soleil à l’Auberge\, impossible de passer une mauvaise journée ! Apportez votre matériel ou louez-en 😉 \nPicnic tous ensemble – Chacun apporte le repas pour sa famille
URL:https://www.jumeauxetplus26.fr/event/journee-neige-le-grand-echaillon-2/
CATEGORIES:Animation
END:VEVENT
END:VCALENDAR